Package: decontam Version: 1.24.0 Command: rm -rf decontam.buildbin-libdir && mkdir decontam.buildbin-libdir && /Users/biocbuild/BBS/utils/build-universal.sh decontam_1.24.0.tar.gz /Library/Frameworks/R.framework/Resources/bin/R decontam.buildbin-libdir StartedAt: 2024-06-11 10:52:14 -0400 (Tue, 11 Jun 2024) EndedAt: 2024-06-11 10:52:25 -0400 (Tue, 11 Jun 2024) EllapsedTime: 11.0 seconds RetCode: 0 Status: OK PackageFile: decontam_1.24.0.tgz PackageFileSize: 759.3 KiB