Package: decontam Version: 1.24.0 Command: /Library/Frameworks/R.framework/Resources/bin/R CMD INSTALL decontam StartedAt: 2024-10-16 16:02:35 -0400 (Wed, 16 Oct 2024) EndedAt: 2024-10-16 16:02:41 -0400 (Wed, 16 Oct 2024) EllapsedTime: 6.1 seconds RetCode: 0 Status: OK