Package: decontam Version: 1.24.0 Command: /Library/Frameworks/R.framework/Resources/bin/R CMD build --keep-empty-dirs --no-resave-data decontam StartedAt: 2024-10-16 22:50:03 -0400 (Wed, 16 Oct 2024) EndedAt: 2024-10-16 22:50:33 -0400 (Wed, 16 Oct 2024) EllapsedTime: 30.6 seconds RetCode: 0 Status: OK PackageFile: decontam_1.24.0.tar.gz PackageFileSize: 724 KiB