Package: decontam Version: 1.24.0 Maintainer: Benjamin Callahan MaintainerEmail: benjamin.j.callahan at gmail.com git_url: https://git.bioconductor.org/packages/decontam git_branch: RELEASE_3_19 git_last_commit: 2648b10 git_last_commit_date: 2024-04-30 11:05:37 -0400 (Tue, 30 Apr 2024)