Package: decontX Version: 1.2.0 Command: chmod a+r decontX -R && E:\biocbuild\bbs-3.19-bioc\R\bin\R.exe CMD build --keep-empty-dirs --no-resave-data decontX StartedAt: 2024-10-16 18:33:57 -0400 (Wed, 16 Oct 2024) EndedAt: 2024-10-16 18:46:14 -0400 (Wed, 16 Oct 2024) EllapsedTime: 736.8 seconds RetCode: 0 Status: OK PackageFile: decontX_1.2.0.tar.gz PackageFileSize: 979.1 KiB