Package: decontX Version: 1.2.0 Command: /Library/Frameworks/R.framework/Resources/bin/R CMD check --install=check:decontX.install-out.txt --library=/Library/Frameworks/R.framework/Resources/library --no-vignettes --timings decontX_1.2.0.tar.gz StartedAt: 2024-10-17 18:55:51 -0400 (Thu, 17 Oct 2024) EndedAt: 2024-10-17 19:03:51 -0400 (Thu, 17 Oct 2024) EllapsedTime: 480.3 seconds RetCode: 0 Status: WARNINGS CheckDir: decontX.Rcheck Warnings: 1