Package: decompTumor2Sig Version: 2.20.0 Command: E:\biocbuild\bbs-3.19-bioc\R\bin\R.exe CMD INSTALL decompTumor2Sig StartedAt: 2024-10-16 16:33:33 -0400 (Wed, 16 Oct 2024) EndedAt: 2024-10-16 16:34:40 -0400 (Wed, 16 Oct 2024) EllapsedTime: 67.4 seconds RetCode: 0 Status: OK