Package: decompTumor2Sig Version: 2.20.0 Command: rm -rf decompTumor2Sig.buildbin-libdir && mkdir decompTumor2Sig.buildbin-libdir && E:\biocbuild\bbs-3.19-bioc\R\bin\R.exe CMD INSTALL --build --library=decompTumor2Sig.buildbin-libdir decompTumor2Sig_2.20.0.tar.gz StartedAt: 2024-10-17 07:39:09 -0400 (Thu, 17 Oct 2024) EndedAt: 2024-10-17 07:41:11 -0400 (Thu, 17 Oct 2024) EllapsedTime: 122.0 seconds RetCode: 0 Status: OK PackageFile: decompTumor2Sig_2.20.0.zip PackageFileSize: 2.436 MiB