Package: decompTumor2Sig Version: 2.20.0 Command: rm -rf decompTumor2Sig.buildbin-libdir && mkdir decompTumor2Sig.buildbin-libdir && F:\biocbuild\bbs-3.19-bioc\R\bin\R.exe CMD INSTALL --build --library=decompTumor2Sig.buildbin-libdir decompTumor2Sig_2.20.0.tar.gz StartedAt: 2024-06-27 08:05:29 -0400 (Thu, 27 Jun 2024) EndedAt: 2024-06-27 08:06:31 -0400 (Thu, 27 Jun 2024) EllapsedTime: 62.2 seconds RetCode: 0 Status: OK PackageFile: decompTumor2Sig_2.20.0.zip PackageFileSize: 2.436 MiB