Package: decompTumor2Sig Version: 2.20.0 Command: /home/biocbuild/bbs-3.19-bioc/R/bin/R CMD build --keep-empty-dirs --no-resave-data decompTumor2Sig StartedAt: 2024-10-16 18:05:58 -0400 (Wed, 16 Oct 2024) EndedAt: 2024-10-16 18:10:06 -0400 (Wed, 16 Oct 2024) EllapsedTime: 247.5 seconds RetCode: 0 Status: OK PackageFile: decompTumor2Sig_2.20.0.tar.gz PackageFileSize: 2.581 MiB