Package: decompTumor2Sig Version: 2.20.0 Command: /Library/Frameworks/R.framework/Resources/bin/R CMD check --install=check:decompTumor2Sig.install-out.txt --library=/Library/Frameworks/R.framework/Resources/library --no-vignettes --timings decompTumor2Sig_2.20.0.tar.gz StartedAt: 2024-10-17 03:54:57 -0400 (Thu, 17 Oct 2024) EndedAt: 2024-10-17 04:12:58 -0400 (Thu, 17 Oct 2024) EllapsedTime: 1081.0 seconds RetCode: 0 Status: OK CheckDir: decompTumor2Sig.Rcheck Warnings: 0