Package: decompTumor2Sig Version: 2.20.0 Command: /Library/Frameworks/R.framework/Resources/bin/R CMD build --keep-empty-dirs --no-resave-data decompTumor2Sig StartedAt: 2024-10-16 18:29:18 -0400 (Wed, 16 Oct 2024) EndedAt: 2024-10-16 18:44:09 -0400 (Wed, 16 Oct 2024) EllapsedTime: 891.5 seconds RetCode: 0 Status: OK PackageFile: decompTumor2Sig_2.20.0.tar.gz PackageFileSize: 2.723 MiB