Package: decompTumor2Sig Version: 2.20.0 Command: rm -rf decompTumor2Sig.buildbin-libdir && mkdir decompTumor2Sig.buildbin-libdir && /Users/biocbuild/BBS/utils/build-universal.sh decompTumor2Sig_2.20.0.tar.gz /Library/Frameworks/R.framework/Resources/bin/R decompTumor2Sig.buildbin-libdir StartedAt: 2024-10-17 15:59:11 -0400 (Thu, 17 Oct 2024) EndedAt: 2024-10-17 16:00:51 -0400 (Thu, 17 Oct 2024) EllapsedTime: 99.4 seconds RetCode: 0 Status: OK PackageFile: decompTumor2Sig_2.20.0.tgz PackageFileSize: 2.76 MiB