Package: decompTumor2Sig Version: 2.20.0 Command: /Library/Frameworks/R.framework/Resources/bin/R CMD check --install=check:decompTumor2Sig.install-out.txt --library=/Library/Frameworks/R.framework/Resources/library --no-vignettes --timings decompTumor2Sig_2.20.0.tar.gz StartedAt: 2024-06-09 19:51:27 -0400 (Sun, 09 Jun 2024) EndedAt: 2024-06-09 19:58:58 -0400 (Sun, 09 Jun 2024) EllapsedTime: 451.4 seconds RetCode: 0 Status: OK CheckDir: decompTumor2Sig.Rcheck Warnings: 0