Package: decompTumor2Sig Version: 2.20.0 Command: /Library/Frameworks/R.framework/Resources/bin/R CMD build --keep-empty-dirs --no-resave-data decompTumor2Sig StartedAt: 2024-06-09 16:24:30 -0400 (Sun, 09 Jun 2024) EndedAt: 2024-06-09 16:29:14 -0400 (Sun, 09 Jun 2024) EllapsedTime: 283.5 seconds RetCode: 0 Status: OK PackageFile: decompTumor2Sig_2.20.0.tar.gz PackageFileSize: 2.723 MiB