Package: decompTumor2Sig Version: 2.20.0 Command: rm -rf decompTumor2Sig.buildbin-libdir && mkdir decompTumor2Sig.buildbin-libdir && /Users/biocbuild/BBS/utils/build-universal.sh decompTumor2Sig_2.20.0.tar.gz /Library/Frameworks/R.framework/Resources/bin/R decompTumor2Sig.buildbin-libdir StartedAt: 2024-06-10 00:14:25 -0400 (Mon, 10 Jun 2024) EndedAt: 2024-06-10 00:15:23 -0400 (Mon, 10 Jun 2024) EllapsedTime: 57.5 seconds RetCode: 0 Status: OK PackageFile: decompTumor2Sig_2.20.0.tgz PackageFileSize: 2.759 MiB