Package: decompTumor2Sig Version: 2.20.0 Command: /home/biocbuild/R/R-beta-2024-04-15_r86425/bin/R CMD INSTALL decompTumor2Sig StartedAt: 2024-05-08 20:32:19 -0000 (Wed, 08 May 2024) EndedAt: 2024-05-08 20:33:16 -0000 (Wed, 08 May 2024) EllapsedTime: 56.8 seconds RetCode: 0 Status: OK