Package: decompTumor2Sig Version: 2.20.0 Command: /home/biocbuild/R/R-beta-2024-04-15_r86425/bin/R CMD check --install=check:decompTumor2Sig.install-out.txt --library=/home/biocbuild/R/R-beta-2024-04-15_r86425/site-library --no-vignettes --timings decompTumor2Sig_2.20.0.tar.gz StartedAt: 2024-05-09 06:34:42 -0000 (Thu, 09 May 2024) EndedAt: 2024-05-09 06:44:04 -0000 (Thu, 09 May 2024) EllapsedTime: 562.0 seconds RetCode: 0 Status: OK CheckDir: decompTumor2Sig.Rcheck Warnings: 0