Package: decompTumor2Sig Version: 2.20.0 Command: /home/biocbuild/R/R-beta-2024-04-15_r86425/bin/R CMD build --keep-empty-dirs --no-resave-data decompTumor2Sig StartedAt: 2024-05-08 23:45:09 -0000 (Wed, 08 May 2024) EndedAt: 2024-05-08 23:51:46 -0000 (Wed, 08 May 2024) EllapsedTime: 397.5 seconds RetCode: 0 Status: OK PackageFile: decompTumor2Sig_2.20.0.tar.gz PackageFileSize: 2.458 MiB