Package: decompTumor2Sig Version: 2.20.0 Command: /Library/Frameworks/R.framework/Resources/bin/R CMD INSTALL decompTumor2Sig StartedAt: 2024-06-09 15:57:41 -0400 (Sun, 09 Jun 2024) EndedAt: 2024-06-09 15:58:49 -0400 (Sun, 09 Jun 2024) EllapsedTime: 67.9 seconds RetCode: 0 Status: OK