Package: decompTumor2Sig Version: 2.20.0 Command: /Library/Frameworks/R.framework/Resources/bin/R CMD build --keep-empty-dirs --no-resave-data decompTumor2Sig StartedAt: 2024-06-09 20:19:31 -0400 (Sun, 09 Jun 2024) EndedAt: 2024-06-09 20:59:31 -0400 (Sun, 09 Jun 2024) EllapsedTime: 2400.2 seconds RetCode: None Status: TIMEOUT PackageFile: None PackageFileSize: NA