Package: decompTumor2Sig Version: 2.20.0 Command: /Library/Frameworks/R.framework/Resources/bin/R CMD INSTALL decompTumor2Sig StartedAt: 2024-10-16 16:48:50 -0400 (Wed, 16 Oct 2024) EndedAt: 2024-10-16 16:49:39 -0400 (Wed, 16 Oct 2024) EllapsedTime: 49.2 seconds RetCode: 0 Status: OK