Package: decompTumor2Sig Version: 2.20.0 Command: /Library/Frameworks/R.framework/Resources/bin/R CMD build --keep-empty-dirs --no-resave-data decompTumor2Sig StartedAt: 2024-10-16 22:46:15 -0400 (Wed, 16 Oct 2024) EndedAt: 2024-10-16 23:26:15 -0400 (Wed, 16 Oct 2024) EllapsedTime: 2400.2 seconds RetCode: None Status: TIMEOUT PackageFile: None PackageFileSize: NA