Package: debrowser Version: 1.32.0 Command: E:\biocbuild\bbs-3.19-bioc\R\bin\R.exe CMD INSTALL debrowser StartedAt: 2024-10-16 17:09:57 -0400 (Wed, 16 Oct 2024) EndedAt: 2024-10-16 17:11:33 -0400 (Wed, 16 Oct 2024) EllapsedTime: 96.9 seconds RetCode: 0 Status: OK