Package: debrowser Version: 1.32.0 Command: chmod a+r debrowser -R && E:\biocbuild\bbs-3.19-bioc\R\bin\R.exe CMD build --keep-empty-dirs --no-resave-data debrowser StartedAt: 2024-10-16 18:33:30 -0400 (Wed, 16 Oct 2024) EndedAt: 2024-10-16 18:35:25 -0400 (Wed, 16 Oct 2024) EllapsedTime: 114.1 seconds RetCode: 0 Status: OK PackageFile: debrowser_1.32.0.tar.gz PackageFileSize: 18.22 MiB