Package: debrowser Version: 1.32.0 Command: rm -rf debrowser.buildbin-libdir && mkdir debrowser.buildbin-libdir && E:\biocbuild\bbs-3.19-bioc\R\bin\R.exe CMD INSTALL --build --library=debrowser.buildbin-libdir debrowser_1.32.0.tar.gz StartedAt: 2024-10-17 07:39:04 -0400 (Thu, 17 Oct 2024) EndedAt: 2024-10-17 07:41:16 -0400 (Thu, 17 Oct 2024) EllapsedTime: 132.7 seconds RetCode: 0 Status: OK PackageFile: debrowser_1.32.0.zip PackageFileSize: 18.64 MiB