Package: debrowser Version: 1.32.0 Command: rm -rf debrowser.buildbin-libdir && mkdir debrowser.buildbin-libdir && F:\biocbuild\bbs-3.19-bioc\R\bin\R.exe CMD INSTALL --build --library=debrowser.buildbin-libdir debrowser_1.32.0.tar.gz StartedAt: 2024-06-27 08:05:25 -0400 (Thu, 27 Jun 2024) EndedAt: 2024-06-27 08:06:51 -0400 (Thu, 27 Jun 2024) EllapsedTime: 86.7 seconds RetCode: 0 Status: OK PackageFile: debrowser_1.32.0.zip PackageFileSize: 18.64 MiB