Package: debrowser Version: 1.32.0 Command: rm -rf debrowser.buildbin-libdir && mkdir debrowser.buildbin-libdir && /Users/biocbuild/BBS/utils/build-universal.sh debrowser_1.32.0.tar.gz /Library/Frameworks/R.framework/Resources/bin/R debrowser.buildbin-libdir StartedAt: 2024-06-11 10:52:03 -0400 (Tue, 11 Jun 2024) EndedAt: 2024-06-11 10:53:44 -0400 (Tue, 11 Jun 2024) EllapsedTime: 100.6 seconds RetCode: 0 Status: OK PackageFile: debrowser_1.32.0.tgz PackageFileSize: 18.64 MiB