Package: debrowser Version: 1.32.0 Maintainer: Alper Kucukural MaintainerEmail: alper.kucukural at umassmed.edu git_url: https://git.bioconductor.org/packages/debrowser git_branch: RELEASE_3_19 git_last_commit: eb2c623 git_last_commit_date: 2024-04-30 10:49:26 -0400 (Tue, 30 Apr 2024)