Package: debCAM Version: 1.22.0 Command: rm -rf debCAM.buildbin-libdir && mkdir debCAM.buildbin-libdir && /Users/biocbuild/BBS/utils/build-universal.sh debCAM_1.22.0.tar.gz /Library/Frameworks/R.framework/Resources/bin/R debCAM.buildbin-libdir StartedAt: 2024-10-17 15:59:07 -0400 (Thu, 17 Oct 2024) EndedAt: 2024-10-17 15:59:32 -0400 (Thu, 17 Oct 2024) EllapsedTime: 24.7 seconds RetCode: 0 Status: OK PackageFile: debCAM_1.22.0.tgz PackageFileSize: 3.159 MiB