Package: debCAM Version: 1.22.0 Command: rm -rf debCAM.buildbin-libdir && mkdir debCAM.buildbin-libdir && /Users/biocbuild/BBS/utils/build-universal.sh debCAM_1.22.0.tar.gz /Library/Frameworks/R.framework/Resources/bin/R debCAM.buildbin-libdir StartedAt: 2024-06-10 00:14:23 -0400 (Mon, 10 Jun 2024) EndedAt: 2024-06-10 00:14:37 -0400 (Mon, 10 Jun 2024) EllapsedTime: 14.6 seconds RetCode: 0 Status: OK PackageFile: debCAM_1.22.0.tgz PackageFileSize: 3.16 MiB