Package: dearseq Version: 1.16.0 Command: E:\biocbuild\bbs-3.19-bioc\R\bin\R.exe CMD INSTALL dearseq StartedAt: 2024-10-16 17:09:08 -0400 (Wed, 16 Oct 2024) EndedAt: 2024-10-16 17:09:25 -0400 (Wed, 16 Oct 2024) EllapsedTime: 17.4 seconds RetCode: 0 Status: OK