Package: dearseq Version: 1.16.0 Command: E:\biocbuild\bbs-3.19-bioc\R\bin\R.exe CMD check --no-multiarch --install=check:dearseq.install-out.txt --library=E:\biocbuild\bbs-3.19-bioc\R\library --no-vignettes --timings dearseq_1.16.0.tar.gz StartedAt: 2024-10-17 00:37:59 -0400 (Thu, 17 Oct 2024) EndedAt: 2024-10-17 00:39:42 -0400 (Thu, 17 Oct 2024) EllapsedTime: 102.8 seconds RetCode: 0 Status: OK CheckDir: dearseq.Rcheck Warnings: 0