Package: dearseq Version: 1.16.0 Command: chmod a+r dearseq -R && E:\biocbuild\bbs-3.19-bioc\R\bin\R.exe CMD build --keep-empty-dirs --no-resave-data dearseq StartedAt: 2024-10-16 18:33:19 -0400 (Wed, 16 Oct 2024) EndedAt: 2024-10-16 18:41:49 -0400 (Wed, 16 Oct 2024) EllapsedTime: 509.4 seconds RetCode: 0 Status: OK PackageFile: dearseq_1.16.0.tar.gz PackageFileSize: 506.9 KiB