Package: dearseq Version: 1.16.0 Command: rm -rf dearseq.buildbin-libdir && mkdir dearseq.buildbin-libdir && E:\biocbuild\bbs-3.19-bioc\R\bin\R.exe CMD INSTALL --build --library=dearseq.buildbin-libdir dearseq_1.16.0.tar.gz StartedAt: 2024-10-17 07:39:00 -0400 (Thu, 17 Oct 2024) EndedAt: 2024-10-17 07:39:20 -0400 (Thu, 17 Oct 2024) EllapsedTime: 20.0 seconds RetCode: 0 Status: OK PackageFile: dearseq_1.16.0.zip PackageFileSize: 645 KiB