Package: dearseq Version: 1.16.0 Command: F:\biocbuild\bbs-3.19-bioc\R\bin\R.exe CMD INSTALL dearseq StartedAt: 2024-06-26 16:41:09 -0400 (Wed, 26 Jun 2024) EndedAt: 2024-06-26 16:41:23 -0400 (Wed, 26 Jun 2024) EllapsedTime: 14.6 seconds RetCode: 0 Status: OK