Package: dearseq Version: 1.16.0 Command: F:\biocbuild\bbs-3.19-bioc\R\bin\R.exe CMD check --no-multiarch --install=check:dearseq.install-out.txt --library=F:\biocbuild\bbs-3.19-bioc\R\library --no-vignettes --timings dearseq_1.16.0.tar.gz StartedAt: 2024-06-27 00:45:30 -0400 (Thu, 27 Jun 2024) EndedAt: 2024-06-27 00:47:05 -0400 (Thu, 27 Jun 2024) EllapsedTime: 95.6 seconds RetCode: 0 Status: OK CheckDir: dearseq.Rcheck Warnings: 0