Package: dearseq Version: 1.16.0 Command: /home/biocbuild/bbs-3.19-bioc/R/bin/R CMD build --keep-empty-dirs --no-resave-data dearseq StartedAt: 2024-10-16 18:05:43 -0400 (Wed, 16 Oct 2024) EndedAt: 2024-10-16 18:10:44 -0400 (Wed, 16 Oct 2024) EllapsedTime: 300.6 seconds RetCode: 0 Status: OK PackageFile: dearseq_1.16.0.tar.gz PackageFileSize: 656.6 KiB