Package: dearseq Version: 1.16.0 Command: /Library/Frameworks/R.framework/Resources/bin/R CMD build --keep-empty-dirs --no-resave-data dearseq StartedAt: 2024-10-16 18:28:31 -0400 (Wed, 16 Oct 2024) EndedAt: 2024-10-16 18:43:44 -0400 (Wed, 16 Oct 2024) EllapsedTime: 912.7 seconds RetCode: 0 Status: OK PackageFile: dearseq_1.16.0.tar.gz PackageFileSize: 764.1 KiB