Package: dearseq Version: 1.16.0 Command: rm -rf dearseq.buildbin-libdir && mkdir dearseq.buildbin-libdir && /Users/biocbuild/BBS/utils/build-universal.sh dearseq_1.16.0.tar.gz /Library/Frameworks/R.framework/Resources/bin/R dearseq.buildbin-libdir StartedAt: 2024-10-17 15:59:01 -0400 (Thu, 17 Oct 2024) EndedAt: 2024-10-17 15:59:24 -0400 (Thu, 17 Oct 2024) EllapsedTime: 23.3 seconds RetCode: 0 Status: OK PackageFile: dearseq_1.16.0.tgz PackageFileSize: 894.9 KiB