Package: dearseq Version: 1.16.0 Command: /Library/Frameworks/R.framework/Resources/bin/R CMD build --keep-empty-dirs --no-resave-data dearseq StartedAt: 2024-10-16 22:44:09 -0400 (Wed, 16 Oct 2024) EndedAt: 2024-10-16 22:51:54 -0400 (Wed, 16 Oct 2024) EllapsedTime: 465.2 seconds RetCode: 0 Status: OK PackageFile: dearseq_1.16.0.tar.gz PackageFileSize: 765.8 KiB