Package: ddPCRclust Version: 1.24.0 Command: E:\biocbuild\bbs-3.19-bioc\R\bin\R.exe CMD INSTALL ddPCRclust StartedAt: 2024-10-16 17:17:37 -0400 (Wed, 16 Oct 2024) EndedAt: 2024-10-16 17:18:05 -0400 (Wed, 16 Oct 2024) EllapsedTime: 28.0 seconds RetCode: 0 Status: OK