Package: ddPCRclust Version: 1.24.0 Command: E:\biocbuild\bbs-3.19-bioc\R\bin\R.exe CMD check --no-multiarch --install=check:ddPCRclust.install-out.txt --library=E:\biocbuild\bbs-3.19-bioc\R\library --no-vignettes --timings ddPCRclust_1.24.0.tar.gz StartedAt: 2024-10-17 00:37:49 -0400 (Thu, 17 Oct 2024) EndedAt: 2024-10-17 00:41:20 -0400 (Thu, 17 Oct 2024) EllapsedTime: 211.0 seconds RetCode: 0 Status: OK CheckDir: ddPCRclust.Rcheck Warnings: 0