Package: ddPCRclust Version: 1.24.0 Command: /Library/Frameworks/R.framework/Resources/bin/R CMD INSTALL ddPCRclust StartedAt: 2024-10-16 16:43:39 -0400 (Wed, 16 Oct 2024) EndedAt: 2024-10-16 16:44:09 -0400 (Wed, 16 Oct 2024) EllapsedTime: 30.3 seconds RetCode: 0 Status: OK