Package: ddPCRclust Version: 1.24.0 Command: /Library/Frameworks/R.framework/Resources/bin/R CMD build --keep-empty-dirs --no-resave-data ddPCRclust StartedAt: 2024-10-16 18:28:24 -0400 (Wed, 16 Oct 2024) EndedAt: 2024-10-16 18:30:02 -0400 (Wed, 16 Oct 2024) EllapsedTime: 98.2 seconds RetCode: 0 Status: OK PackageFile: ddPCRclust_1.24.0.tar.gz PackageFileSize: 1.192 MiB