Package: ddCt Version: 1.60.0 Command: chmod a+r ddCt -R && E:\biocbuild\bbs-3.19-bioc\R\bin\R.exe CMD build --keep-empty-dirs --no-resave-data ddCt StartedAt: 2024-10-16 18:32:44 -0400 (Wed, 16 Oct 2024) EndedAt: 2024-10-16 18:33:18 -0400 (Wed, 16 Oct 2024) EllapsedTime: 34.1 seconds RetCode: 0 Status: OK PackageFile: ddCt_1.60.0.tar.gz PackageFileSize: 785.4 KiB