Package: ddCt Version: 1.60.0 Command: /home/biocbuild/bbs-3.19-bioc/R/bin/R CMD check --install=check:ddCt.install-out.txt --library=/home/biocbuild/bbs-3.19-bioc/R/site-library --timings ddCt_1.60.0.tar.gz StartedAt: 2024-10-16 23:30:14 -0400 (Wed, 16 Oct 2024) EndedAt: 2024-10-16 23:30:53 -0400 (Wed, 16 Oct 2024) EllapsedTime: 39.1 seconds RetCode: 0 Status: WARNINGS CheckDir: ddCt.Rcheck Warnings: 1