Package: ddCt Version: 1.60.0 Command: /Library/Frameworks/R.framework/Resources/bin/R CMD build --keep-empty-dirs --no-resave-data ddCt StartedAt: 2024-10-16 18:28:15 -0400 (Wed, 16 Oct 2024) EndedAt: 2024-10-16 18:29:16 -0400 (Wed, 16 Oct 2024) EllapsedTime: 61.0 seconds RetCode: 0 Status: OK PackageFile: ddCt_1.60.0.tar.gz PackageFileSize: 780.9 KiB