Package: ddCt
Version: 1.60.0
Command: /home/biocbuild/R/R-beta-2024-04-15_r86425/bin/R CMD INSTALL ddCt
StartedAt: 2024-05-08 20:08:38 -0000 (Wed, 08 May 2024)
EndedAt: 2024-05-08 20:09:16 -0000 (Wed, 08 May 2024)
EllapsedTime: 38.2 seconds
RetCode: 0
Status: OK