Package: ddCt Version: 1.60.0 Command: /Library/Frameworks/R.framework/Resources/bin/R CMD INSTALL ddCt StartedAt: 2024-06-09 15:11:03 -0400 (Sun, 09 Jun 2024) EndedAt: 2024-06-09 15:11:10 -0400 (Sun, 09 Jun 2024) EllapsedTime: 7.4 seconds RetCode: 0 Status: OK